BEGIN:VCALENDAR
VERSION:2.0
METHOD:PUBLISH
PRODID:-//Accessible Web Design//My Calendar//http://www.mywpcal.com//v2.2.13//EN';
BEGIN:VEVENT
UID:679-618
LOCATION:     
SUMMARY:LJFČ U-13 Ogre, pret Ogres NSC. Spēles sākums - 12:00. Jābūt 11:00
DTSTAMP:20190602T120000
ORGANIZER;CN=web admin:MAILTO:edgarsklibus@inbox.lv
DTSTART:20190602T120000
DTEND:20190602T131500
CATEGORIES:Spēles(LJFC)
URL;VALUE=URI:
DESCRIPTION;ENCODING=QUOTED-PRINTABLE:LJFČ U-13 Ogre, pret Ogres NSC. Spēles sākums - 12:00. Jābūt 11:00
END:VEVENT
END:VCALENDAR